BEGIN:VCALENDAR
VERSION:2.0
PRODID:-//GTEV D&#039; Wendlstoana Thanning - ECPv6.15.20//NONSGML v1.0//EN
CALSCALE:GREGORIAN
METHOD:PUBLISH
X-ORIGINAL-URL:https://www.wendlstoana-thanning.de
X-WR-CALDESC:Veranstaltungen für GTEV D&#039; Wendlstoana Thanning
REFRESH-INTERVAL;VALUE=DURATION:PT1H
X-Robots-Tag:noindex
X-PUBLISHED-TTL:PT1H
BEGIN:VTIMEZONE
TZID:Europe/Helsinki
BEGIN:DAYLIGHT
TZOFFSETFROM:+0200
TZOFFSETTO:+0300
TZNAME:EEST
DTSTART:20250330T010000
END:DAYLIGHT
BEGIN:STANDARD
TZOFFSETFROM:+0300
TZOFFSETTO:+0200
TZNAME:EET
DTSTART:20251026T010000
END:STANDARD
BEGIN:DAYLIGHT
TZOFFSETFROM:+0200
TZOFFSETTO:+0300
TZNAME:EEST
DTSTART:20260329T010000
END:DAYLIGHT
BEGIN:STANDARD
TZOFFSETFROM:+0300
TZOFFSETTO:+0200
TZNAME:EET
DTSTART:20261025T010000
END:STANDARD
BEGIN:DAYLIGHT
TZOFFSETFROM:+0200
TZOFFSETTO:+0300
TZNAME:EEST
DTSTART:20270328T010000
END:DAYLIGHT
BEGIN:STANDARD
TZOFFSETFROM:+0300
TZOFFSETTO:+0200
TZNAME:EET
DTSTART:20271031T010000
END:STANDARD
BEGIN:DAYLIGHT
TZOFFSETFROM:+0200
TZOFFSETTO:+0300
TZNAME:EEST
DTSTART:20280326T010000
END:DAYLIGHT
BEGIN:STANDARD
TZOFFSETFROM:+0300
TZOFFSETTO:+0200
TZNAME:EET
DTSTART:20281029T010000
END:STANDARD
END:VTIMEZONE
BEGIN:VTIMEZONE
TZID:UTC
BEGIN:STANDARD
TZOFFSETFROM:+0000
TZOFFSETTO:+0000
TZNAME:UTC
DTSTART:20250101T000000
END:STANDARD
END:VTIMEZONE
BEGIN:VEVENT
DTSTART;TZID=Europe/Helsinki:20260916T194500
DTEND;TZID=Europe/Helsinki:20260916T220000
DTSTAMP:20260421T160622
CREATED:20260115T074345Z
LAST-MODIFIED:20260115T074345Z
UID:4046-1789587900-1789596000@www.wendlstoana-thanning.de
SUMMARY:Ausschusssitzung Trachtenverein
DESCRIPTION:
URL:https://www.wendlstoana-thanning.de/termin/ausschusssitzung-trachtenverein-4/
LOCATION:Vereinsheim am Sportplatz\, Dorfanger 4\, Thanning\, Bayern\, 82544\, Deutschland
CATEGORIES:Termine Trachtenvereinsausschuss/Gautermine
END:VEVENT
BEGIN:VEVENT
DTSTART;TZID=Europe/Helsinki:20260919T130000
DTEND;TZID=Europe/Helsinki:20260919T210000
DTSTAMP:20260421T160622
CREATED:20230115T101422Z
LAST-MODIFIED:20260118T153012Z
UID:2194-1789822800-1789851600@www.wendlstoana-thanning.de
SUMMARY:Stockturnier des Veteranenvereins
DESCRIPTION:Stockbahn EC Thanning
URL:https://www.wendlstoana-thanning.de/termin/stockturnier-des-veteranenvereins/
LOCATION:Stockbahn\, Dorfanger 4\, Thanning\, 82544
CATEGORIES:Termine Thanninger Vereinsleben
END:VEVENT
BEGIN:VEVENT
DTSTART;TZID=Europe/Helsinki:20260924T180000
DTEND;TZID=Europe/Helsinki:20260924T193000
DTSTAMP:20260421T160622
CREATED:20260315T192905Z
LAST-MODIFIED:20260316T063614Z
UID:4200-1790272800-1790278200@www.wendlstoana-thanning.de
SUMMARY:Plattlerprob' Kinder/Jugend
DESCRIPTION:Kinder (1.-3.Klasse): 18:00 Uhr – 18:45 Uhr\nJugend (ab 4. Klasse): 18:00 Uhr – 19:30 Uhr \nBitte etwaige Änderungen beim Veranstaltungsort beachten (je nach Sanierungsfortschritt im Trachtenheim).
URL:https://www.wendlstoana-thanning.de/termin/plattlerprob-kinder-jugend-44/
LOCATION:Trachtenheim im Alten Schulhaus\, Schulstr. 2\, Thanning\, 82544
CATEGORIES:Termine Kinder/Jugend
END:VEVENT
BEGIN:VEVENT
DTSTART;TZID=Europe/Helsinki:20261008T180000
DTEND;TZID=Europe/Helsinki:20261008T193000
DTSTAMP:20260421T160622
CREATED:20260315T192959Z
LAST-MODIFIED:20260316T063905Z
UID:4203-1791482400-1791487800@www.wendlstoana-thanning.de
SUMMARY:Plattlerprob' Kinder/Jugend
DESCRIPTION:Kinder (1.-3.Klasse): 18:00 Uhr – 18:45 Uhr\nJugend (ab 4. Klasse): 18:00 Uhr – 19:30 Uhr \nBitte etwaige Änderungen beim Veranstaltungsort beachten (je nach Sanierungsfortschritt im Trachtenheim).
URL:https://www.wendlstoana-thanning.de/termin/plattlerprob-kinder-jugend-45/
LOCATION:Trachtenheim im Alten Schulhaus\, Schulstr. 2\, Thanning\, 82544
CATEGORIES:Termine Kinder/Jugend
END:VEVENT
BEGIN:VEVENT
DTSTART;VALUE=DATE:20261011
DTEND;VALUE=DATE:20261012
DTSTAMP:20260421T160622
CREATED:20260115T075616Z
LAST-MODIFIED:20260403T042257Z
UID:4063-1791676800-1791763199@www.wendlstoana-thanning.de
SUMMARY:Gau-Preisplatteln
DESCRIPTION:Am 11.10.26  findet das Einzel- und Gruppenpreisplatteln (Kinder\, Jugendliche) der Vereine im Loisachtaler Gauverband statt.Ort: Gasthof zur Post in Benediktbeuern\, ab 8.30 Uhr. \nDer Termin/Ort für das Preisplattlen für Aktive steht noch nicht fest.
URL:https://www.wendlstoana-thanning.de/termin/gau-preisplatteln/
CATEGORIES:Öffentl. Termine Trachtenverein,Termine Kinder/Jugend,Termine Trachtenvereinsausschuss/Gautermine
ATTACH;FMTTYPE=image/jpeg:https://www.wendlstoana-thanning.de/wp-content/uploads/2022/10/Logo-Loisachgau.jpg
END:VEVENT
BEGIN:VEVENT
DTSTART;TZID=Europe/Helsinki:20261017T083000
DTEND;TZID=Europe/Helsinki:20261017T235900
DTSTAMP:20260421T160622
CREATED:20250115T102948Z
LAST-MODIFIED:20260118T152921Z
UID:2817-1792225800-1792281540@www.wendlstoana-thanning.de
SUMMARY:Feuerwehr-Ausflug
DESCRIPTION:Informationen zur FFW Thanning sind auf www.ffw-thanning.de zu finden.
URL:https://www.wendlstoana-thanning.de/termin/feuerwehr-ausflug-2/
CATEGORIES:Termine Thanninger Vereinsleben
END:VEVENT
BEGIN:VEVENT
DTSTART;TZID=Europe/Helsinki:20261021T194500
DTEND;TZID=Europe/Helsinki:20261021T220000
DTSTAMP:20260421T160622
CREATED:20260115T074430Z
LAST-MODIFIED:20260115T074443Z
UID:4049-1792611900-1792620000@www.wendlstoana-thanning.de
SUMMARY:Ausschusssitzung Trachtenverein
DESCRIPTION:
URL:https://www.wendlstoana-thanning.de/termin/ausschusssitzung-trachtenverein-5/
LOCATION:Vereinsheim am Sportplatz\, Dorfanger 4\, Thanning\, Bayern\, 82544\, Deutschland
CATEGORIES:Termine Trachtenvereinsausschuss/Gautermine
END:VEVENT
BEGIN:VEVENT
DTSTART;TZID=Europe/Helsinki:20261022T180000
DTEND;TZID=Europe/Helsinki:20261022T193000
DTSTAMP:20260421T160622
CREATED:20260315T195054Z
LAST-MODIFIED:20260316T063521Z
UID:4221-1792692000-1792697400@www.wendlstoana-thanning.de
SUMMARY:Plattlerprob' Kinder/Jugend
DESCRIPTION:Kinder (1.-3.Klasse): 18:00 Uhr – 18:45 Uhr\nJugend (ab 4. Klasse): 18:00 Uhr – 19:30 Uhr \nBitte etwaige Änderungen beim Veranstaltungsort beachten (je nach Sanierungsfortschritt im Trachtenheim).
URL:https://www.wendlstoana-thanning.de/termin/plattlerprob-kinder-jugend-47/
LOCATION:Trachtenheim im Alten Schulhaus\, Schulstr. 2\, Thanning\, 82544
CATEGORIES:Termine Kinder/Jugend
END:VEVENT
BEGIN:VEVENT
DTSTART;TZID=Europe/Helsinki:20261025T090000
DTEND;TZID=Europe/Helsinki:20261025T150000
DTSTAMP:20260421T160622
CREATED:20260118T150045Z
LAST-MODIFIED:20260118T150045Z
UID:4092-1792918800-1792940400@www.wendlstoana-thanning.de
SUMMARY:Herbstgauversammlung
DESCRIPTION:Wird noch bekannt gegeben. Weitere Informationen: www.loisachgau.de
URL:https://www.wendlstoana-thanning.de/termin/herbstgauversammlung-2/
CATEGORIES:Öffentl. Termine Trachtenverein,Termine Trachtenvereinsausschuss/Gautermine
ATTACH;FMTTYPE=image/jpeg:https://www.wendlstoana-thanning.de/wp-content/uploads/2022/10/Logo-Loisachgau.jpg
END:VEVENT
BEGIN:VEVENT
DTSTART;TZID=Europe/Helsinki:20261031T200000
DTEND;TZID=Europe/Helsinki:20261031T200000
DTSTAMP:20260421T160622
CREATED:20250115T101538Z
LAST-MODIFIED:20260118T152817Z
UID:2197-1793476800-1793476800@www.wendlstoana-thanning.de
SUMMARY:Jahreshauptversammlung Burschenverein Thanning
DESCRIPTION:Gasthaus Hansch Feldkirchen
URL:https://www.wendlstoana-thanning.de/termin/jahreshauptversammlung-burschenverein-thanning/
CATEGORIES:Termine Thanninger Vereinsleben
END:VEVENT
BEGIN:VEVENT
DTSTART;TZID=Europe/Helsinki:20261106T200000
DTEND;TZID=Europe/Helsinki:20261106T200000
DTSTAMP:20260421T160622
CREATED:20250115T100809Z
LAST-MODIFIED:20260118T152656Z
UID:1644-1793995200-1793995200@www.wendlstoana-thanning.de
SUMMARY:ECT-Herbstversammlung
DESCRIPTION:
URL:https://www.wendlstoana-thanning.de/termin/ect-herbstversammlung/
LOCATION:Vereinsheim am Sportplatz\, Dorfanger 4\, Thanning\, Bayern\, 82544\, Deutschland
CATEGORIES:Termine Thanninger Vereinsleben
END:VEVENT
BEGIN:VEVENT
DTSTART;VALUE=DATE:20261107
DTEND;VALUE=DATE:20261108
DTSTAMP:20260421T160622
CREATED:20250115T081021Z
LAST-MODIFIED:20260118T152603Z
UID:2873-1794009600-1794095999@www.wendlstoana-thanning.de
SUMMARY:Hydranteneinwintern der FFW Thanning mit anschl. Kameradschaftsabend
DESCRIPTION:
URL:https://www.wendlstoana-thanning.de/termin/hydranteneinwintzern-der-ffw-thanning-mit-anschl-kameradschaftsabend/
CATEGORIES:Termine Thanninger Vereinsleben
END:VEVENT
BEGIN:VEVENT
DTSTART;TZID=Europe/Helsinki:20261108T100000
DTEND;TZID=Europe/Helsinki:20261108T100000
DTSTAMP:20260421T160622
CREATED:20260115T074625Z
LAST-MODIFIED:20260118T152527Z
UID:4052-1794132000-1794132000@www.wendlstoana-thanning.de
SUMMARY:Trachtenjahrtag mit Jahreshauptversammlung
DESCRIPTION:Der Trachtenverein lädt alle Mitglieder herzlich ein zum diesjährigen Jahrtag. \nDieser beginnt am Sonntag\, 8. November 2026  mit dem feierlichen Gottesdienst  in der Pfarrkirche St. Peter und Paul. Gottesdienstbeginn siehe aktueller Kirchenzettel. \nIm Anschluss findet unsere Jahreshauptversammlung mit Neuaufnahmen und Ehrungen im ECT-Vereinsheim am Sportplatz Thanning statt. \nAufstellung zum Kirchenzug ab Sportplatz\, 30 Minuten vor Gottesdienstbeginn. \nAnträge auf Ergänzungen der Tagesordnung müssen eine Woche vor der Versammlung schriftlich beim Vorstand eingereicht werden\, damit diese noch auf die Tagesordnung gesetzt werden können. Die Einladung ergeht per Post/e-Mail auch direkt an alle Mitglieder des Trachtenvereins. \nDie Vorstandschaft des GTEV D’Wendlstoana Thanning e.V.
URL:https://www.wendlstoana-thanning.de/termin/trachtenjahrtag-mit-jahreshauptversammlung/
LOCATION:Pfarrkirche St. Peter und Paul Thanning\, Hauptstraße 14\, Thanning\, 82544\, Deutschland
CATEGORIES:Öffentl. Termine Trachtenverein,Termine Trachtenvereinsausschuss/Gautermine
ATTACH;FMTTYPE=image/jpeg:https://www.wendlstoana-thanning.de/wp-content/uploads/2022/10/1M9A8580-scaled.jpg
END:VEVENT
BEGIN:VEVENT
DTSTART;TZID=Europe/Helsinki:20261112T180000
DTEND;TZID=Europe/Helsinki:20261112T210000
DTSTAMP:20260421T160622
CREATED:20260315T193044Z
LAST-MODIFIED:20260316T063430Z
UID:4206-1794506400-1794517200@www.wendlstoana-thanning.de
SUMMARY:Plattlerprob' Kinder/Jugend + Oldie-Plattlerprob
DESCRIPTION:Gemeinsame Plattlerprob mit den Eltern!
URL:https://www.wendlstoana-thanning.de/termin/plattlerprob-kinder-jugend-46/
LOCATION:Trachtenheim im Alten Schulhaus\, Schulstr. 2\, Thanning\, 82544
CATEGORIES:Termine Kinder/Jugend
END:VEVENT
BEGIN:VEVENT
DTSTART;TZID=Europe/Helsinki:20261114T200000
DTEND;TZID=Europe/Helsinki:20261114T230000
DTSTAMP:20260421T160622
CREATED:20260105T082429Z
LAST-MODIFIED:20260105T082434Z
UID:3991-1794686400-1794697200@www.wendlstoana-thanning.de
SUMMARY:Theater 2026:  PREMIERE
DESCRIPTION:
URL:https://www.wendlstoana-thanning.de/termin/theater-2026-premiere/
LOCATION:Vereinsheim am Sportplatz\, Dorfanger 4\, Thanning\, Bayern\, 82544\, Deutschland
CATEGORIES:Öffentl. Termine Trachtenverein,Termine Thanninger Vereinsleben
ATTACH;FMTTYPE=image/jpeg:https://www.wendlstoana-thanning.de/wp-content/uploads/2023/10/IMG_2918-scaled.jpg
END:VEVENT
BEGIN:VEVENT
DTSTART;TZID=Europe/Helsinki:20261115T133000
DTEND;TZID=Europe/Helsinki:20261115T133000
DTSTAMP:20260421T160622
CREATED:20260105T082646Z
LAST-MODIFIED:20260105T082707Z
UID:3994-1794749400-1794749400@www.wendlstoana-thanning.de
SUMMARY:Theater 2026:  Nachmittagsvorstellung
DESCRIPTION:
URL:https://www.wendlstoana-thanning.de/termin/theater-2026-nachmittagsvrstellung/
LOCATION:Vereinsheim am Sportplatz\, Dorfanger 4\, Thanning\, Bayern\, 82544\, Deutschland
CATEGORIES:Öffentl. Termine Trachtenverein,Termine Thanninger Vereinsleben
ATTACH;FMTTYPE=image/jpeg:https://www.wendlstoana-thanning.de/wp-content/uploads/2023/10/IMG_2918-scaled.jpg
END:VEVENT
BEGIN:VEVENT
DTSTART;TZID=Europe/Helsinki:20261115T190000
DTEND;TZID=Europe/Helsinki:20261115T190000
DTSTAMP:20260421T160622
CREATED:20260118T150231Z
LAST-MODIFIED:20260118T150231Z
UID:4095-1794769200-1794769200@www.wendlstoana-thanning.de
SUMMARY:Gau-Dankandacht
DESCRIPTION:Ort wird noch bekannt gegeben. Weitere Informationen: www.loisachgau.de
URL:https://www.wendlstoana-thanning.de/termin/gau-dankandacht/
CATEGORIES:Öffentl. Termine Trachtenverein,Termine Trachtenvereinsausschuss/Gautermine
ATTACH;FMTTYPE=image/jpeg:https://www.wendlstoana-thanning.de/wp-content/uploads/2022/10/Logo-Loisachgau.jpg
END:VEVENT
BEGIN:VEVENT
DTSTART;TZID=Europe/Helsinki:20261115T190000
DTEND;TZID=Europe/Helsinki:20261115T230000
DTSTAMP:20260421T160622
CREATED:20260105T082807Z
LAST-MODIFIED:20260105T082807Z
UID:3998-1794769200-1794783600@www.wendlstoana-thanning.de
SUMMARY:Theater 2026:  Vorstellung 3
DESCRIPTION:
URL:https://www.wendlstoana-thanning.de/termin/theater-2026-3/
LOCATION:Vereinsheim am Sportplatz\, Dorfanger 4\, Thanning\, Bayern\, 82544\, Deutschland
CATEGORIES:Öffentl. Termine Trachtenverein,Termine Thanninger Vereinsleben
ATTACH;FMTTYPE=image/jpeg:https://www.wendlstoana-thanning.de/wp-content/uploads/2023/10/IMG_2918-scaled.jpg
END:VEVENT
BEGIN:VEVENT
DTSTART;TZID=Europe/Helsinki:20261118T200000
DTEND;TZID=Europe/Helsinki:20261118T230000
DTSTAMP:20260421T160622
CREATED:20260105T082855Z
LAST-MODIFIED:20260105T082855Z
UID:4002-1795032000-1795042800@www.wendlstoana-thanning.de
SUMMARY:Theater 2026:  Vorstellung 4
DESCRIPTION:
URL:https://www.wendlstoana-thanning.de/termin/theater-2026-vorstellung-4/
LOCATION:Vereinsheim am Sportplatz\, Dorfanger 4\, Thanning\, Bayern\, 82544\, Deutschland
CATEGORIES:Öffentl. Termine Trachtenverein,Termine Thanninger Vereinsleben
ATTACH;FMTTYPE=image/jpeg:https://www.wendlstoana-thanning.de/wp-content/uploads/2023/10/IMG_2918-scaled.jpg
END:VEVENT
BEGIN:VEVENT
DTSTART;TZID=Europe/Helsinki:20261120T200000
DTEND;TZID=Europe/Helsinki:20261120T230000
DTSTAMP:20260421T160622
CREATED:20260105T082941Z
LAST-MODIFIED:20260105T083007Z
UID:4007-1795204800-1795215600@www.wendlstoana-thanning.de
SUMMARY:Theater 2026:  Vorstellung 5
DESCRIPTION:
URL:https://www.wendlstoana-thanning.de/termin/theater-2026-vorstellung-5/
LOCATION:Vereinsheim am Sportplatz\, Dorfanger 4\, Thanning\, Bayern\, 82544\, Deutschland
CATEGORIES:Öffentl. Termine Trachtenverein,Termine Thanninger Vereinsleben
ATTACH;FMTTYPE=image/jpeg:https://www.wendlstoana-thanning.de/wp-content/uploads/2023/10/IMG_2918-scaled.jpg
END:VEVENT
BEGIN:VEVENT
DTSTART;TZID=Europe/Helsinki:20261121T200000
DTEND;TZID=Europe/Helsinki:20261121T230000
DTSTAMP:20260421T160622
CREATED:20260105T083046Z
LAST-MODIFIED:20260105T083049Z
UID:4012-1795291200-1795302000@www.wendlstoana-thanning.de
SUMMARY:Theater 2026:  Vorstellung 6
DESCRIPTION:
URL:https://www.wendlstoana-thanning.de/termin/theater-2026-vorstellung-6/
LOCATION:Vereinsheim am Sportplatz\, Dorfanger 4\, Thanning\, Bayern\, 82544\, Deutschland
CATEGORIES:Öffentl. Termine Trachtenverein,Termine Thanninger Vereinsleben
ATTACH;FMTTYPE=image/jpeg:https://www.wendlstoana-thanning.de/wp-content/uploads/2023/10/IMG_2918-scaled.jpg
END:VEVENT
BEGIN:VEVENT
DTSTART;TZID=Europe/Helsinki:20261122T090000
DTEND;TZID=Europe/Helsinki:20261122T170000
DTSTAMP:20260421T160622
CREATED:20250115T102230Z
LAST-MODIFIED:20260118T152310Z
UID:2209-1795338000-1795366800@www.wendlstoana-thanning.de
SUMMARY:Jahrtag Veteranenverein Thanning
DESCRIPTION:Jahrtag in der Pfarrkirche Thanning mit anschl. Jahreshauptversammlung im ECT-Vereinsheim am Sportplatz. Gottesdienstbeginn siehe aktueller Kirchenzettel.
URL:https://www.wendlstoana-thanning.de/termin/jahrtag-veteranenverein-thanning/
LOCATION:Pfarrkirche St. Peter und Paul Thanning\, Hauptstraße 14\, Thanning\, 82544\, Deutschland
CATEGORIES:Termine Thanninger Vereinsleben
END:VEVENT
BEGIN:VEVENT
DTSTART;VALUE=DATE:20261127
DTEND;VALUE=DATE:20261130
DTSTAMP:20260421T160622
CREATED:20230112T085911Z
LAST-MODIFIED:20260118T150316Z
UID:2127-1795737600-1795996799@www.wendlstoana-thanning.de
SUMMARY:Holzhausener Adventsmarkt
DESCRIPTION:
URL:https://www.wendlstoana-thanning.de/termin/holzhausener-adventsmarkt/
CATEGORIES:Öffentl. Termine Trachtenverein,Termine Trachtenvereinsausschuss/Gautermine
END:VEVENT
BEGIN:VEVENT
DTSTART;TZID=Europe/Helsinki:20261202T194500
DTEND;TZID=Europe/Helsinki:20261202T220000
DTSTAMP:20260421T160622
CREATED:20260115T074720Z
LAST-MODIFIED:20260115T074720Z
UID:4056-1796240700-1796248800@www.wendlstoana-thanning.de
SUMMARY:Ausschusssitzung Trachtenverein
DESCRIPTION:
URL:https://www.wendlstoana-thanning.de/termin/ausschusssitzung-trachtenverein-9/
LOCATION:Vereinsheim am Sportplatz\, Dorfanger 4\, Thanning\, Bayern\, 82544\, Deutschland
CATEGORIES:Termine Trachtenvereinsausschuss/Gautermine
END:VEVENT
BEGIN:VEVENT
DTSTART;TZID=Europe/Helsinki:20261219T200000
DTEND;TZID=Europe/Helsinki:20261219T230000
DTSTAMP:20260421T160622
CREATED:20250115T102452Z
LAST-MODIFIED:20260118T152049Z
UID:2212-1797710400-1797721200@www.wendlstoana-thanning.de
SUMMARY:Weihnachtsfeier des EC Thanning
DESCRIPTION:Große Weihnachtsfeier für die Sportlerinnen und Sporler und Freunde & Gönner des ECT
URL:https://www.wendlstoana-thanning.de/termin/weihnachtsfeier-des-ec-thanning/
LOCATION:Vereinsheim am Sportplatz\, Dorfanger 4\, Thanning\, Bayern\, 82544\, Deutschland
CATEGORIES:Termine Thanninger Vereinsleben
END:VEVENT
BEGIN:VEVENT
DTSTART;TZID=UTC:20261220T190000
DTEND;TZID=UTC:20261220T190000
DTSTAMP:20260421T160622
CREATED:20251110T203056Z
LAST-MODIFIED:20260118T155441Z
UID:3911-1797793200-1797793200@www.wendlstoana-thanning.de
SUMMARY:A Stund im Advent
DESCRIPTION:  \n  \n  \n  \n  \n  \nDer Trachtenverein lädt am Sonntag\, 20.12.26 um 19 Uhr in  die Pfarrkirche  St. Peter & Paul Thanning zur STUND IM ADVENT \nIm Anschluss trifft man sich am Trachtenheim im Alten Schulhaus/am Feuerwehrhaus zum gemütlichen Beisammensein bei Punsch und Bratwurst. \nDer Erlös aus der „Stund im Advent“ wird an Hilfsbedürftige in der Region gespendet.
URL:https://www.wendlstoana-thanning.de/termin/a-stund-im-advent/
LOCATION:Pfarrkirche St. Peter und Paul Thanning\, Hauptstraße 14\, Thanning\, 82544\, Deutschland
CATEGORIES:Öffentl. Termine Trachtenverein,Termine Thanninger Vereinsleben,Termine Trachtenvereinsausschuss/Gautermine
ATTACH;FMTTYPE=image/jpeg:https://www.wendlstoana-thanning.de/wp-content/uploads/2022/12/IMG_3842b-scaled.jpg
END:VEVENT
BEGIN:VEVENT
DTSTART;TZID=Europe/Helsinki:20270101T100000
DTEND;TZID=Europe/Helsinki:20270101T190000
DTSTAMP:20260421T160622
CREATED:20260118T151613Z
LAST-MODIFIED:20260118T155533Z
UID:4030-1798797600-1798830000@www.wendlstoana-thanning.de
SUMMARY:Neujahranspielen der Blaskapelle
DESCRIPTION:Die Blaskapelle Thanning begrüßt das neue Jahr und spielt an verschiedenen Standorten im Dorf und der Umgebung ein Ständchen.
URL:https://www.wendlstoana-thanning.de/termin/neujahranspielen-der-blaskapelle-2027/
END:VEVENT
BEGIN:VEVENT
DTSTART;TZID=Europe/Helsinki:20270105T200000
DTEND;TZID=Europe/Helsinki:20270105T220000
DTSTAMP:20260421T160622
CREATED:20250115T081904Z
LAST-MODIFIED:20260118T151939Z
UID:2885-1799179200-1799186400@www.wendlstoana-thanning.de
SUMMARY:Jahreshauptversammlung der FFW Thanning
DESCRIPTION:
URL:https://www.wendlstoana-thanning.de/termin/jahreshauptversammlung-der-ffw-thanning/
LOCATION:Vereinsheim am Sportplatz\, Dorfanger 4\, Thanning\, Bayern\, 82544\, Deutschland
CATEGORIES:Termine Thanninger Vereinsleben
END:VEVENT
BEGIN:VEVENT
DTSTART;TZID=Europe/Helsinki:20270110T183000
DTEND;TZID=Europe/Helsinki:20270110T220000
DTSTAMP:20260421T160622
CREATED:20260118T151757Z
LAST-MODIFIED:20260118T151805Z
UID:4101-1799605800-1799618400@www.wendlstoana-thanning.de
SUMMARY:Vorständeversammlung Jahresplanung 2027
DESCRIPTION:Treffen der Ortsvereine zur Jahresplanbesprechung\, Ausrichter Trachtenverein
URL:https://www.wendlstoana-thanning.de/termin/vorstaendeversammlung-jahresplanung-2027/
LOCATION:Vereinsheim am Sportplatz\, Dorfanger 4\, Thanning\, Bayern\, 82544\, Deutschland
CATEGORIES:Termine Thanninger Vereinsleben
END:VEVENT
BEGIN:VEVENT
DTSTART;VALUE=DATE:20270115
DTEND;VALUE=DATE:20270118
DTSTAMP:20260421T160622
CREATED:20260403T044210Z
LAST-MODIFIED:20260403T091015Z
UID:4249-1799971200-1800230399@www.wendlstoana-thanning.de
SUMMARY:Volksmusikseminar der ARGE
DESCRIPTION:Volksmusikseminar-Wochenende für Kinder und Jugendliche \nVeranstaltungsort: Don Bosco Kloster Benediktbeuern \nInformationen und Anmeldeformular folgen
URL:https://www.wendlstoana-thanning.de/termin/volksmusikseminar-arge/
CATEGORIES:Öffentl. Termine Trachtenverein,Termine Kinder/Jugend
END:VEVENT
END:VCALENDAR