BEGIN:VCALENDAR
VERSION:2.0
PRODID:-//GTEV D&#039; Wendlstoana Thanning - ECPv6.15.20//NONSGML v1.0//EN
CALSCALE:GREGORIAN
METHOD:PUBLISH
X-WR-CALNAME:GTEV D&#039; Wendlstoana Thanning
X-ORIGINAL-URL:https://www.wendlstoana-thanning.de
X-WR-CALDESC:Veranstaltungen für GTEV D&#039; Wendlstoana Thanning
REFRESH-INTERVAL;VALUE=DURATION:PT1H
X-Robots-Tag:noindex
X-PUBLISHED-TTL:PT1H
BEGIN:VTIMEZONE
TZID:Europe/Helsinki
BEGIN:DAYLIGHT
TZOFFSETFROM:+0200
TZOFFSETTO:+0300
TZNAME:EEST
DTSTART:20220327T010000
END:DAYLIGHT
BEGIN:STANDARD
TZOFFSETFROM:+0300
TZOFFSETTO:+0200
TZNAME:EET
DTSTART:20221030T010000
END:STANDARD
BEGIN:DAYLIGHT
TZOFFSETFROM:+0200
TZOFFSETTO:+0300
TZNAME:EEST
DTSTART:20230326T010000
END:DAYLIGHT
BEGIN:STANDARD
TZOFFSETFROM:+0300
TZOFFSETTO:+0200
TZNAME:EET
DTSTART:20231029T010000
END:STANDARD
BEGIN:DAYLIGHT
TZOFFSETFROM:+0200
TZOFFSETTO:+0300
TZNAME:EEST
DTSTART:20240331T010000
END:DAYLIGHT
BEGIN:STANDARD
TZOFFSETFROM:+0300
TZOFFSETTO:+0200
TZNAME:EET
DTSTART:20241027T010000
END:STANDARD
END:VTIMEZONE
BEGIN:VEVENT
DTSTART;VALUE=DATE:20230521
DTEND;VALUE=DATE:20230522
DTSTAMP:20260421T162230
CREATED:20230118T173221Z
LAST-MODIFIED:20230118T173221Z
UID:2159-1684627200-1684713599@www.wendlstoana-thanning.de
SUMMARY:Bezirksmusikfest der Blaskapellen
DESCRIPTION:Degerndorf/Münsing
URL:https://www.wendlstoana-thanning.de/termin/bezirksmusikfest-der-blaskapellen/
CATEGORIES:Termine Thanninger Vereinsleben
END:VEVENT
BEGIN:VEVENT
DTSTART;TZID=Europe/Helsinki:20230521T080000
DTEND;TZID=Europe/Helsinki:20230521T170000
DTSTAMP:20260421T162230
CREATED:20230112T085118Z
LAST-MODIFIED:20230112T085118Z
UID:2105-1684656000-1684688400@www.wendlstoana-thanning.de
SUMMARY:Volksmusiktag in Benediktbeuern
DESCRIPTION:
URL:https://www.wendlstoana-thanning.de/termin/volksmusiktag-in-benediktbeuern/
CATEGORIES:Öffentl. Termine Trachtenverein,Termine Trachtenvereinsausschuss/Gautermine
END:VEVENT
END:VCALENDAR